BEGIN:VCALENDAR
PRODID:-//eluceo/ical//2.0/EN
VERSION:2.0
CALSCALE:GREGORIAN
BEGIN:VEVENT
UID:db4fa5a5736a100a1705716703cb71bb
DTSTAMP:20260423T155324Z
SUMMARY:10AM JCA Cultural Arts Breast Cancer Awareness Month Program
DESCRIPTION:Jewish Federation & Foundation of Northeast Florida\nCommunity 
 Calendar\nhttps://jewishjacksonville.org/jewish-federation-of-jacksonville
 -calendar/cultural-arts-breast-cander-awareness-month-program\n\nCommunity
  Program\n\nCultural Arts Breast Cancer Awareness Month Program 10am-4pm.\
 n\nhttps://reg.jcajax.org/OnlineEdge/programlist.html
DTSTART;TZID=America/New_York:20151025T100000
DTEND;TZID=America/New_York:20151025T160000
END:VEVENT
END:VCALENDAR
