BEGIN:VCALENDAR
PRODID:-//eluceo/ical//2.0/EN
VERSION:2.0
CALSCALE:GREGORIAN
BEGIN:VEVENT
UID:5748c46d78cd34dd6a7460726c2a34e6
DTSTAMP:20260421T175337Z
SUMMARY:5:30-6:30pm - JFFNEFL CSI Meet & Greet for Agency Leadership
DESCRIPTION:Jewish Federation & Foundation of Northeast Florida\nCommunity 
 Calendar\nhttps://jewishjacksonville.org/jewish-federation-of-jacksonville
 -calendar/csi-meet-greet-for-agency-leadership\n\nA mini-meeting and meet 
 & greet for partner agency and organizational leadership to hear from Comm
 unity Security Director\, Alex Silverstein. Leadership will be able to get
  to know Alex and what he's doing in his role\, and understand the long-t
 erm impact and timeline of the Community Security division of the Jewish F
 ederation & Foundation of Northeast Florida.\n\nLocation TBD
DTSTART;TZID=America/New_York:20230608T173000
DTEND;TZID=America/New_York:20230608T183000
END:VEVENT
END:VCALENDAR
