BEGIN:VCALENDAR
PRODID:-//eluceo/ical//2.0/EN
VERSION:2.0
CALSCALE:GREGORIAN
BEGIN:VEVENT
UID:433cbf66de5490289ab68107e3d66c29
DTSTAMP:20260423T235727Z
SUMMARY:12 PM - Congregation Ahavath Chesed Lunch & Learn At Athens Cafe
DESCRIPTION:Jewish Federation & Foundation of Northeast Florida\nCommunity 
 Calendar\nhttps://jewishjacksonville.org/jewish-federation-of-jacksonville
 -calendar/congregation-ahavath-chesed-lunch-learn-at\n\nLunch & Learn with
  Rabbi Shapiro at Athens Cafe.
DTSTART;TZID=America/New_York:20170314T120000
DTEND;TZID=America/New_York:20170314T133000
END:VEVENT
END:VCALENDAR
