BEGIN:VCALENDAR
PRODID:-//eluceo/ical//2.0/EN
VERSION:2.0
CALSCALE:GREGORIAN
BEGIN:VEVENT
UID:cb1ce5d7ef65cfd814b2956ba7f84993
DTSTAMP:20260424T020003Z
SUMMARY:7pm Yom HaShoah Commemoration - Beth-El at the Beaches
DESCRIPTION:Jewish Federation & Foundation of Northeast Florida\nCommunity 
 Calendar\nhttps://jewishjacksonville.org/jewish-federation-of-jacksonville
 -calendar/community-yom-hashoah-2025\n\nCommunity-wide Yom HaShoah Event\n
 April 23 7-8 pm\n\nBeth-El at the Beaches \n\n288 N Roscoe Blvd\n\nPonte 
 Vedra 32082\n\nRSVP \n\nhttps://beb.payquiq.com/index.cfm?event=forms.vie
 w&embedform=1&contentid=42D06FF4-D9B4-4A65-A37CB8FC09FFE098
DTSTART;TZID=America/New_York:20250423T190000
DTEND;TZID=America/New_York:20250423T200000
END:VEVENT
END:VCALENDAR
