BEGIN:VCALENDAR
PRODID:-//eluceo/ical//2.0/EN
VERSION:2.0
CALSCALE:GREGORIAN
BEGIN:VEVENT
UID:21aaf3ca0b57f10e7937192c197042eb
DTSTAMP:20260423T225014Z
SUMMARY:Community Ceremony for Israel's Memorial Day for the fallen soldier
 s
DESCRIPTION:Jewish Federation & Foundation of Northeast Florida\nCommunity 
 Calendar\nhttps://jewishjacksonville.org/jewish-federation-of-jacksonville
 -calendar/community-ceremony-for-israels-memorial-day-for-the-fallen-soldi
 ers\n\nJoin us for a community ceremony for Yom Hazikaron - Israel's Memo
 rial Day for the fallen soldiers.\n\n7:00-7:30 Ceremony \n\n7:30-8:30 "Br
 other For Life" - Israeli delegation of IDF former soldiers \n\nIDF soldi
 ers wounded\n\n 
DTSTART;TZID=America/New_York:20200427T190000
DTEND;TZID=America/New_York:20200427T210000
END:VEVENT
END:VCALENDAR
