BEGIN:VCALENDAR
PRODID:-//eluceo/ical//2.0/EN
VERSION:2.0
CALSCALE:GREGORIAN
BEGIN:VEVENT
UID:845ada738635291814624a4ff481bc04
DTSTAMP:20260424T110816Z
SUMMARY:6pm Spread Cream Cheese Not Hate Kickoff Dinner
DESCRIPTION:Jewish Federation & Foundation of Northeast Florida\nCommunity 
 Calendar\nhttps://jewishjacksonville.org/jewish-federation-of-jacksonville
 -calendar/cheese-not-hate-kickoff-dinner\n\nThursday January 30\, 2025\n\n
 Spread Cream Cheese Not Hate Kickoff Dinner 6pm – 8pm\n\nChrist Church E
 piscopal\, Ponte Vedra Beach
DTSTART;TZID=America/New_York:20250130T180000
DTEND;TZID=America/New_York:20250130T200000
END:VEVENT
END:VCALENDAR
