BEGIN:VCALENDAR
PRODID:-//eluceo/ical//2.0/EN
VERSION:2.0
CALSCALE:GREGORIAN
BEGIN:VEVENT
UID:e5fed08ec2f561fc69da3a04c09c8716
DTSTAMP:20260423T091634Z
SUMMARY:5:45PM JCA Chanukkah Celebration
DESCRIPTION:Jewish Federation & Foundation of Northeast Florida\nCommunity 
 Calendar\nhttps://jewishjacksonville.org/jewish-federation-of-jacksonville
 -calendar/chanukkah-celebration\n\nContact us for more information!
DTSTART;TZID=America/New_York:20181203T000000
DTEND;TZID=America/New_York:20181203T235959
END:VEVENT
END:VCALENDAR
