BEGIN:VCALENDAR
PRODID:-//eluceo/ical//2.0/EN
VERSION:2.0
CALSCALE:GREGORIAN
BEGIN:VEVENT
UID:f6b7a8193fd276747fd307317b7edb7f
DTSTAMP:20260424T075533Z
SUMMARY:5:30 PM rGEN Brews & Schmooze Happy Hour
DESCRIPTION:Jewish Federation & Foundation of Northeast Florida\nCommunity 
 Calendar\nhttps://jewishjacksonville.org/jewish-federation-of-jacksonville
 -calendar/brews-schmooze-Moxie\n\nJoin other Jewish young adults for our s
 ummer happy hour series: Brews & Schmooze!" \n\n \n\nBeginning at 5:30PM
 \n\nMoxie\n\n4972 Big Island Dr. \n\n \n\nCheck out additional dates/tim
 es at https://jewishjacksonville.org/rgenbrews\n\n \n\nPlease contact Ar
 iel Frechtman for more information at arielf@jewishjacksonville.org or 
 (904) 448-5000 ext. 1208 \n\n \n\n \n\n \n\n 
DTSTART;TZID=America/New_York:20170817T173000
DTEND;TZID=America/New_York:20170817T193000
END:VEVENT
END:VCALENDAR
