BEGIN:VCALENDAR
PRODID:-//eluceo/ical//2.0/EN
VERSION:2.0
CALSCALE:GREGORIAN
BEGIN:VEVENT
UID:86357c875d4402f0d7b6091b197901fc
DTSTAMP:20260425T115212Z
SUMMARY:B&P Main Event
DESCRIPTION:Jewish Federation & Foundation of Northeast Florida\nCommunity 
 Calendar\nhttps://jewishjacksonville.org/jewish-federation-of-jacksonville
 -calendar/bp-main-event-487949\n\nAnnual Business & Professionals Main Eve
 nt\n\nHear from a panel of local Jewish professionals in the Food & Hospit
 ality Industries\n\nWednesday\, April 30\, 2025\n\nMarriott Jacksonville\,
  4670 Salisbury Road\, Jacksonville\, FL 32256\n\n6:00 PM - Networking & C
 ocktails\n\n7:00 PM - Program \n\nB&P Chair: Dan Schwartz\n\nhttps://even
 ts.idonate.com/mainevent2025
DTSTART;TZID=America/New_York:20250430T180000
DTEND;TZID=America/New_York:20250430T200000
END:VEVENT
END:VCALENDAR
