BEGIN:VCALENDAR
PRODID:-//eluceo/ical//2.0/EN
VERSION:2.0
CALSCALE:GREGORIAN
BEGIN:VEVENT
UID:b6734a56be5f8e83bfdc29d0e4639fd9
DTSTAMP:20260421T171334Z
SUMMARY:B'nei Mitzvah Begins
DESCRIPTION:Jewish Federation & Foundation of Northeast Florida\nCommunity 
 Calendar\nhttps://jewishjacksonville.org/jewish-federation-of-jacksonville
 -calendar/bnei-mitzvah-begins\n\nB'nei Mitzvah Class begins every Tuesday 
 from 4:15 pm to 5:45 pm.
DTSTART;TZID=America/New_York:20140909T161500
DTEND;TZID=America/New_York:20140909T174500
END:VEVENT
END:VCALENDAR
