BEGIN:VCALENDAR
PRODID:-//eluceo/ical//2.0/EN
VERSION:2.0
CALSCALE:GREGORIAN
BEGIN:VEVENT
UID:10dd3d4d067cc58cdcb40f540b3feb31
DTSTAMP:20260422T091504Z
SUMMARY:12AM JJC BMitzvah
DESCRIPTION:Jewish Federation & Foundation of Northeast Florida\nCommunity 
 Calendar\nhttps://jewishjacksonville.org/jewish-federation-of-jacksonville
 -calendar/bmitzvah-7\n\nJJC BMitzvah
DTSTART;TZID=America/New_York:20151204T080000
DTEND;TZID=America/New_York:20151205T235500
END:VEVENT
END:VCALENDAR
