BEGIN:VCALENDAR
PRODID:-//eluceo/ical//2.0/EN
VERSION:2.0
CALSCALE:GREGORIAN
BEGIN:VEVENT
UID:60797f5c8f82e4def74cc18e38fb8250
DTSTAMP:20260423T092310Z
SUMMARY:12AM JJC BMitzvah
DESCRIPTION:Jewish Federation & Foundation of Northeast Florida\nCommunity 
 Calendar\nhttps://jewishjacksonville.org/jewish-federation-of-jacksonville
 -calendar/bmitzvah-22\n\nJJC BMitzvah
DTSTART;TZID=America/New_York:20160513T082500
DTEND;TZID=America/New_York:20160514T235500
END:VEVENT
END:VCALENDAR
