BEGIN:VCALENDAR
PRODID:-//eluceo/ical//2.0/EN
VERSION:2.0
CALSCALE:GREGORIAN
BEGIN:VEVENT
UID:c917e1ee4e2add6c02fbda797a368670
DTSTAMP:20260421T225048Z
SUMMARY:12AM JJC BMitzvah
DESCRIPTION:Jewish Federation & Foundation of Northeast Florida\nCommunity 
 Calendar\nhttps://jewishjacksonville.org/jewish-federation-of-jacksonville
 -calendar/bmitzvah-20\n\nJJC BMitzvah
DTSTART;TZID=America/New_York:20160415T082500
DTEND;TZID=America/New_York:20160416T235500
END:VEVENT
END:VCALENDAR
