BEGIN:VCALENDAR
PRODID:-//eluceo/ical//2.0/EN
VERSION:2.0
CALSCALE:GREGORIAN
BEGIN:VEVENT
UID:6e8d75db75b6d99b6bf31017f96e1f18
DTSTAMP:20260423T192041Z
SUMMARY:tent. JFFNF Big Night
DESCRIPTION:Jewish Federation & Foundation of Northeast Florida\nCommunity 
 Calendar\nhttps://jewishjacksonville.org/jewish-federation-of-jacksonville
 -calendar/big-night-6-27\n\nTentative Date for Big Night 2027\n\nContact L
 auren Rickoff laurenr@jewishjacksonville.org for more information.
DTSTART;TZID=America/New_York:20270207T183000
DTEND;TZID=America/New_York:20270207T203000
END:VEVENT
END:VCALENDAR
