BEGIN:VCALENDAR
PRODID:-//eluceo/ical//2.0/EN
VERSION:2.0
CALSCALE:GREGORIAN
BEGIN:VEVENT
UID:a3b11916091445a5a33d3749393409e0
DTSTAMP:20260421T175327Z
SUMMARY:10AM Beth El Sisterhood Game Day Event
DESCRIPTION:Jewish Federation & Foundation of Northeast Florida\nCommunity 
 Calendar\nhttps://jewishjacksonville.org/jewish-federation-of-jacksonville
 -calendar/beth-el-sisterhood-game-day-event\n\nBeth El Sisterhood invites 
 everyone to create a "Table of Friends" for Mah Jongg\, Bridge\, Scrabble\
 , board games\, card games\, or whatever game you want to bring. A $25 don
 ation provides door prizes\, snacks and a light lunch. For more informatio
 n contact Denice at dzboss1@hotmail.com or (978) 314-6263
DTSTART;TZID=America/New_York:20151020T100000
DTEND;TZID=America/New_York:20151020T150000
END:VEVENT
END:VCALENDAR
