BEGIN:VCALENDAR
PRODID:-//eluceo/ical//2.0/EN
VERSION:2.0
CALSCALE:GREGORIAN
BEGIN:VEVENT
UID:54ed380ae8ce38e1c7511228fc869a57
DTSTAMP:20260423T210045Z
SUMMARY:9:00 AM - JJC Bat Mitzvah
DESCRIPTION:Jewish Federation & Foundation of Northeast Florida\nCommunity 
 Calendar\nhttps://jewishjacksonville.org/jewish-federation-of-jacksonville
 -calendar/bat-mitzvah15jjc\n\nJJC Bat Mitzvah
DTSTART;TZID=America/New_York:20170513T090000
DTEND;TZID=America/New_York:20170513T120000
END:VEVENT
END:VCALENDAR
