BEGIN:VCALENDAR
PRODID:-//eluceo/ical//2.0/EN
VERSION:2.0
CALSCALE:GREGORIAN
BEGIN:VEVENT
UID:b7b2e28be59aeae271ee5c85a2ab0072
DTSTAMP:20260422T021412Z
SUMMARY:12AM JJC Bat Mitzvah 
DESCRIPTION:Jewish Federation & Foundation of Northeast Florida\nCommunity 
 Calendar\nhttps://jewishjacksonville.org/jewish-federation-of-jacksonville
 -calendar/bat-mitzvah-4\n\nCongregational Bat Mitzvah
DTSTART;TZID=America/New_York:20141205T000000
DTEND;TZID=America/New_York:20141206T230000
END:VEVENT
END:VCALENDAR
