BEGIN:VCALENDAR
PRODID:-//eluceo/ical//2.0/EN
VERSION:2.0
CALSCALE:GREGORIAN
BEGIN:VEVENT
UID:f673d539b1033af6b56bfff19277c294
DTSTAMP:20260422T143143Z
SUMMARY:12AM Bar Mitzvah
DESCRIPTION:Jewish Federation & Foundation of Northeast Florida\nCommunity 
 Calendar\nhttps://jewishjacksonville.org/jewish-federation-of-jacksonville
 -calendar/bar-mitzvah-6\n\nCongregational Bar Mitzvah
DTSTART;TZID=America/New_York:20141024T000000
DTEND;TZID=America/New_York:20141025T230000
END:VEVENT
END:VCALENDAR
