BEGIN:VCALENDAR
PRODID:-//eluceo/ical//2.0/EN
VERSION:2.0
CALSCALE:GREGORIAN
BEGIN:VEVENT
UID:35cd4be739a94942de550287001e84c1
DTSTAMP:20260425T183515Z
SUMMARY:Banned Book Week
DESCRIPTION:Jewish Federation & Foundation of Northeast Florida\nCommunity 
 Calendar\nhttps://jewishjacksonville.org/jewish-federation-of-jacksonville
 -calendar/banned-book-week\n\nAmerican Library Association’s Banned Book
 s Week (BBW) celebrates ​Banned Books Week (BBW). It runs from Septem
 ber 27 to October 3\, 2015\, and celebrates the freedom to read by highlig
 hting the value of free and open access to information. \n\n \n\nBBW acti
 vities take place August-October at Duval and St. Johns county libraries\,
  school\, college and university campuses\, and additional First Coast ven
 ues. Programs include banned book-to-film screenings\, art activities\, pe
 rformances\, and ...
DTSTART;TZID=America/New_York:20150927T000000
DTEND;TZID=America/New_York:20151003T000000
END:VEVENT
END:VCALENDAR
