BEGIN:VCALENDAR
PRODID:-//eluceo/ical//2.0/EN
VERSION:2.0
CALSCALE:GREGORIAN
BEGIN:VEVENT
UID:752ea272bfc5a12e05c8c833ab53c3dc
DTSTAMP:20260423T123147Z
SUMMARY:9 AM - Annual Yom Limmud With Charlie Harary
DESCRIPTION:Jewish Federation & Foundation of Northeast Florida\nCommunity 
 Calendar\nhttps://jewishjacksonville.org/jewish-federation-of-jacksonville
 -calendar/annual-yom-limmud\n\nEtz Chaim is proud to present its annual Yo
 m Limmud – A day of studying & exploring. The Yom Limmud is designed to 
 offer you the opportunity to develop a deeper connection to the fundamenta
 l concepts in Judaism\, in an intellectually challenging atmosphere. \n\n
  
DTSTART;TZID=America/New_York:20180114T090000
DTEND;TZID=America/New_York:20180114T120000
END:VEVENT
END:VCALENDAR
