BEGIN:VCALENDAR
PRODID:-//eluceo/ical//2.0/EN
VERSION:2.0
CALSCALE:GREGORIAN
BEGIN:VEVENT
UID:d09a16b39b44307c9ddbbae643484e88
DTSTAMP:20260420T173451Z
SUMMARY:Annual Interfaith Dinner & Program
DESCRIPTION:Jewish Federation & Foundation of Northeast Florida\nCommunity 
 Calendar\nhttps://jewishjacksonville.org/jewish-federation-of-jacksonville
 -calendar/annual-interfaith-dinner-program\n\nInterfaith Dinner & Program 
 – March 14\, 2024 6:00pm\n\nJacksonville Jewish Center- 3662 Crown Point
  Rd. Jacksonville\, Florida 32257\n\nThe Interfaith Center of Northeast
  Florida in partnership with the Jacksonville Jewish Center will be hostin
 g our eighth annual interfaith Ramadan iftar with Religious services for
  both faiths\, break fast\, and an Iftar dinner which will feature kosh
 er and halal food prepared by members of the interfaith community. \n\n
 Members of the Parents Circl...
DTSTART;TZID=America/New_York:20240314T180000
DTEND;TZID=America/New_York:20240314T213000
END:VEVENT
END:VCALENDAR
