BEGIN:VCALENDAR
PRODID:-//eluceo/ical//2.0/EN
VERSION:2.0
CALSCALE:GREGORIAN
BEGIN:VEVENT
UID:9eb80422a915c569694acf1a93484d7e
DTSTAMP:20260424T094316Z
SUMMARY:9:30AM Annual Community Calendar Meeting
DESCRIPTION:Jewish Federation & Foundation of Northeast Florida\nCommunity 
 Calendar\nhttps://jewishjacksonville.org/jewish-federation-of-jacksonville
 -calendar/annual-agency-community-meeting\n\nBrief training refresher on h
 ow to use the Community Calendar \nExamine 2016-2017 year \nLight breakf
 ast provided
DTSTART;TZID=America/New_York:20160523T093000
DTEND;TZID=America/New_York:20160523T113000
END:VEVENT
END:VCALENDAR
