BEGIN:VCALENDAR
PRODID:-//eluceo/ical//2.0/EN
VERSION:2.0
CALSCALE:GREGORIAN
BEGIN:VEVENT
UID:d7a5433ca7ac1424078c0444e097541f
DTSTAMP:20260422T125356Z
SUMMARY:An Evening with Jack Romberg who will discuss his book\, Doorway to
  Heroism.
DESCRIPTION:Jewish Federation & Foundation of Northeast Florida\nCommunity 
 Calendar\nhttps://jewishjacksonville.org/jewish-federation-of-jacksonville
 -calendar/an-evening-with-jack-romberg-who-will-discuss-his-book-doorway-t
 o-heroism\n\n"Doorway to Heroism"\, the biography of WWI decorated German 
 soldier\, protestor against Hitler and heroic Silver Star decorated U.S. W
 WII soldier\, will be discussed by the author\, W Jack Romberg\, the great
  nephew of hero Richard Stern.\n\nThis event\, open to the public\, will 
 be held at Temple Bet Yam\, 2055 Wildwood Road (just off CR 207) St August
 ine FL. Copies of the book will be available upon request. Masks will be r
 equired.
DTSTART;TZID=America/New_York:20220219T190000
DTEND;TZID=America/New_York:20220219T213000
END:VEVENT
END:VCALENDAR
