BEGIN:VCALENDAR
PRODID:-//eluceo/ical//2.0/EN
VERSION:2.0
CALSCALE:GREGORIAN
BEGIN:VEVENT
UID:f86b40f09f3b21be894fcf6651f61891
DTSTAMP:20260424T190039Z
SUMMARY:ACapella Concert
DESCRIPTION:Jewish Federation & Foundation of Northeast Florida\nCommunity 
 Calendar\nhttps://jewishjacksonville.org/jewish-federation-of-jacksonville
 -calendar/acapella-concert\n\nACapella Concert
DTSTART;TZID=America/New_York:20130126T190000
DTEND;TZID=America/New_York:20130126T210000
END:VEVENT
END:VCALENDAR
