BEGIN:VCALENDAR
PRODID:-//eluceo/ical//2.0/EN
VERSION:2.0
CALSCALE:GREGORIAN
BEGIN:VEVENT
UID:7090b43aa3381026adb1095e7d9a0653
DTSTAMP:20260423T030203Z
SUMMARY:A Modern Jewish Tradition - Chinese Food & Game Night
DESCRIPTION:Jewish Federation & Foundation of Northeast Florida\nCommunity 
 Calendar\nhttps://jewishjacksonville.org/jewish-federation-of-jacksonville
 -calendar/a-modern-jewish-tradition-chinese-food-game-night\n\nA Modern Je
 wish Tradition - Chinese Food & Game Night Dec 24 6:00 services\, 7:00 din
 ner
DTSTART;TZID=America/New_York:20211224T180000
DTEND;TZID=America/New_York:20211224T190000
END:VEVENT
END:VCALENDAR
