BEGIN:VCALENDAR
PRODID:-//eluceo/ical//2.0/EN
VERSION:2.0
CALSCALE:GREGORIAN
BEGIN:VEVENT
UID:4a6f9aa0202e0af27b061e3093521160
DTSTAMP:20260420T200421Z
SUMMARY:Selihot Program & Service
DESCRIPTION:Jewish Federation & Foundation of Northeast Florida\nCommunity 
 Calendar\nhttps://jewishjacksonville.org/jewish-federation-of-jacksonville
 -calendar/Selihot\n\n6:30 PM - Minhah\n\n7:15 PM - Seudah Shlishith\, disc
 ussion and dessert\n\n8:15 PM - Ma’ariv and Havdalah\n\n8:30 PM - “Pla
 n A”\n\nIn the months following the end of the Second World War a group 
 of Jewish survivors formed a secret organization called Nakam\, the Hebrew
  word for “vengeance.” Their goal was to wreak havoc on the German pop
 ulation for empowering the extermination of the Jewish people during the T
 hird Reich. Join us for a discussion of the thin line between justice and 
 re...
DTSTART;TZID=America/New_York:20230909T203000
DTEND;TZID=America/New_York:20230909T231500
END:VEVENT
END:VCALENDAR
