BEGIN:VCALENDAR
PRODID:-//eluceo/ical//2.0/EN
VERSION:2.0
CALSCALE:GREGORIAN
BEGIN:VEVENT
UID:8a8d2dddf6522ef26f80dc655b5c377f
DTSTAMP:20260422T231522Z
SUMMARY:12PM River Garden Auxiliary opening event
DESCRIPTION:Jewish Federation & Foundation of Northeast Florida\nCommunity 
 Calendar\nhttps://jewishjacksonville.org/jewish-federation-of-jacksonville
 -calendar/RiverGardenAuxiliaryopeningevent\n\nRiver Garden Auxiliary openi
 ng event
DTSTART;TZID=America/New_York:20141028T120000
DTEND;TZID=America/New_York:20141028T140000
END:VEVENT
END:VCALENDAR
