BEGIN:VCALENDAR
PRODID:-//eluceo/ical//2.0/EN
VERSION:2.0
CALSCALE:GREGORIAN
BEGIN:VEVENT
UID:2fece3ad35f28ed9b52a67db50e597c6
DTSTAMP:20260423T154827Z
SUMMARY:6pm JFFNF Jewish Federation Community-Wide Event
DESCRIPTION:Jewish Federation & Foundation of Northeast Florida\nCommunity 
 Calendar\nhttps://jewishjacksonville.org/jewish-federation-of-jacksonville
 -calendar/JFFNF-community-event\n\nFebruary 4\, 2026\n\n6:00 pm\n\nJewish 
 Federation Community-Wide Event
DTSTART;TZID=America/New_York:20260204T180000
DTEND;TZID=America/New_York:20260204T200000
END:VEVENT
END:VCALENDAR
