BEGIN:VCALENDAR
PRODID:-//eluceo/ical//2.0/EN
VERSION:2.0
CALSCALE:GREGORIAN
BEGIN:VEVENT
UID:05a092c8d09e0e32a0c7557e9bd8de72
DTSTAMP:20260423T192923Z
SUMMARY:2nd and 3rd Gen Holocaust Survivors Writing Workshop
DESCRIPTION:Jewish Federation & Foundation of Northeast Florida\nCommunity 
 Calendar\nhttps://jewishjacksonville.org/jewish-federation-of-jacksonville
 -calendar/Holocaust-Survivors-Writing-Workshop\n\n2nd & 3rd Gen Holocaust 
 Survivors Writing Workshop Signup Starting August 1\, 2021\n\nWhy? The ef
 fects of the Holocaust can be felt from generation to generation.\n\nHow d
 oes this impact the children and grandchildren of survivors?\n\nEvery mont
 h we meet in a confidential and judgement-free setting\, in-person/online\
 , explore these experiences\, capture these important stories and explore 
 identity.\n\nWritings are based on the 2nd and 3rd Generations’ parents
 ’/grandparents’ Holocaust ...
DTSTART;TZID=America/New_York:20210801T000000
DTEND;TZID=America/New_York:20210801T235959
END:VEVENT
END:VCALENDAR
