BEGIN:VCALENDAR
PRODID:-//eluceo/ical//2.0/EN
VERSION:2.0
CALSCALE:GREGORIAN
BEGIN:VEVENT
UID:dc41d209ab72e4fd7d3ce8e291f11ff5
DTSTAMP:20260421T155933Z
SUMMARY:9AM Temple Torah Study
DESCRIPTION:Jewish Federation & Foundation of Northeast Florida\nCommunity 
 Calendar\nhttps://jewishjacksonville.org/jewish-federation-of-jacksonville
 -calendar/9am-temple-torah-study2\n\nWe invite you to join us for a lively
  discussion and study of the weekly Torah portion every Saturday morning a
 t 9 a.m. Come early at 8:45 a.m. and enjoy a light coffee and bagel breakf
 ast while you mingle with Rabbi Lief and fellow attendees.
DTSTART;TZID=America/New_York:20150815T090000
DTEND;TZID=America/New_York:20150815T100000
END:VEVENT
END:VCALENDAR
