BEGIN:VCALENDAR
PRODID:-//eluceo/ical//2.0/EN
VERSION:2.0
CALSCALE:GREGORIAN
BEGIN:VEVENT
UID:eb898e50d2119b11941852ba24eb14b9
DTSTAMP:20260423T154807Z
SUMMARY:9AM Temple Braille Class
DESCRIPTION:Jewish Federation & Foundation of Northeast Florida\nCommunity 
 Calendar\nhttps://jewishjacksonville.org/jewish-federation-of-jacksonville
 -calendar/9am-temple-braille-class\n\nTemple Braille classes. 9-12 at the 
 Temple.
DTSTART;TZID=America/New_York:20150702T090000
DTEND;TZID=America/New_York:20150702T120000
END:VEVENT
END:VCALENDAR
