BEGIN:VCALENDAR
PRODID:-//eluceo/ical//2.0/EN
VERSION:2.0
CALSCALE:GREGORIAN
BEGIN:VEVENT
UID:1a6f5f1c3cc508ac57cec7869082902c
DTSTAMP:20260423T024125Z
SUMMARY:9AM Temple Braille Class
DESCRIPTION:Jewish Federation & Foundation of Northeast Florida\nCommunity 
 Calendar\nhttps://jewishjacksonville.org/jewish-federation-of-jacksonville
 -calendar/9am-temple-braille\n\nBraille
DTSTART;TZID=America/New_York:20150903T090000
DTEND;TZID=America/New_York:20150903T120000
END:VEVENT
END:VCALENDAR
