BEGIN:VCALENDAR
PRODID:-//eluceo/ical//2.0/EN
VERSION:2.0
CALSCALE:GREGORIAN
BEGIN:VEVENT
UID:ea0f450d43255213f227a7da7380e527
DTSTAMP:20260425T004814Z
SUMMARY:9AM River Garden FUNDRAISER Golf Tournament
DESCRIPTION:Jewish Federation & Foundation of Northeast Florida\nCommunity 
 Calendar\nhttps://jewishjacksonville.org/jewish-federation-of-jacksonville
 -calendar/9am-river-garden-fundraiser-golf-tournament-8290\n\n9AM River Ga
 rden FUNDRAISER Golf Tournament
DTSTART;TZID=America/New_York:20140430T090000
DTEND;TZID=America/New_York:20140430T200000
END:VEVENT
END:VCALENDAR
