BEGIN:VCALENDAR
PRODID:-//eluceo/ical//2.0/EN
VERSION:2.0
CALSCALE:GREGORIAN
BEGIN:VEVENT
UID:af633a69e24d2dddfa57f557db058f3b
DTSTAMP:20260422T195229Z
SUMMARY:9AM JJC Programming - Holiday Bazaar
DESCRIPTION:Jewish Federation & Foundation of Northeast Florida\nCommunity 
 Calendar\nhttps://jewishjacksonville.org/jewish-federation-of-jacksonville
 -calendar/9am-jjc-programming---holiday-bazaar-48561\n\n9AM JJC Holiday Ba
 zaar
DTSTART;TZID=America/New_York:20131027T090000
DTEND;TZID=America/New_York:20131027T180000
END:VEVENT
END:VCALENDAR
