BEGIN:VCALENDAR
PRODID:-//eluceo/ical//2.0/EN
VERSION:2.0
CALSCALE:GREGORIAN
BEGIN:VEVENT
UID:90b06adc739837dc31229c567c27d82a
DTSTAMP:20260420T232251Z
SUMMARY:9AM JJC Men's Club - MC Speaker Series
DESCRIPTION:Jewish Federation & Foundation of Northeast Florida\nCommunity 
 Calendar\nhttps://jewishjacksonville.org/jewish-federation-of-jacksonville
 -calendar/9am-jjc-mens-club---mc-speaker-series-48551\n\n9AM JJC MC Speake
 r Series
DTSTART;TZID=America/New_York:20131006T090000
DTEND;TZID=America/New_York:20131006T113000
END:VEVENT
END:VCALENDAR
