BEGIN:VCALENDAR
PRODID:-//eluceo/ical//2.0/EN
VERSION:2.0
CALSCALE:GREGORIAN
BEGIN:VEVENT
UID:996e750171121044d3bf2ff5636b7a6b
DTSTAMP:20260422T003334Z
SUMMARY:9AM JCA ECE Yom Ha'AtzMuat Celebration
DESCRIPTION:Jewish Federation & Foundation of Northeast Florida\nCommunity 
 Calendar\nhttps://jewishjacksonville.org/jewish-federation-of-jacksonville
 -calendar/9am-jca-ece-yom-haatzmuat\n\nChildren's Program\n\nJCA ECE Yom H
 a'AtzMuat Celebration
DTSTART;TZID=America/New_York:20160512T090000
DTEND;TZID=America/New_York:20160512T120000
END:VEVENT
END:VCALENDAR
