BEGIN:VCALENDAR
PRODID:-//eluceo/ical//2.0/EN
VERSION:2.0
CALSCALE:GREGORIAN
BEGIN:VEVENT
UID:c1e5616a2819e16a1ccdcba1e622c1ea
DTSTAMP:20260420T214715Z
SUMMARY:9AM JCA ECE VISION SCREENING
DESCRIPTION:Jewish Federation & Foundation of Northeast Florida\nCommunity 
 Calendar\nhttps://jewishjacksonville.org/jewish-federation-of-jacksonville
 -calendar/9am-jca-ece-vision-screening\n\nJCA ECE VISION SCREENING 9AM
DTSTART;TZID=America/New_York:20160106T090000
DTEND;TZID=America/New_York:20160106T120000
END:VEVENT
END:VCALENDAR
