BEGIN:VCALENDAR
PRODID:-//eluceo/ical//2.0/EN
VERSION:2.0
CALSCALE:GREGORIAN
BEGIN:VEVENT
UID:6c3dc8158fb92a27cf429004bfcd2a03
DTSTAMP:20260422T103728Z
SUMMARY:9AM Federation Jewish Java
DESCRIPTION:Jewish Federation & Foundation of Northeast Florida\nCommunity 
 Calendar\nhttps://jewishjacksonville.org/jewish-federation-of-jacksonville
 -calendar/9am-federation-jewish-javaSeptember\n\nAre you new to the commun
 ity? Been in Jacksonville a few years but looking to make Jewish connectio
 ns? Do you like to schmooze?  If so the Jewish Federation’s Shalom Jack
 sonville invites you to a monthly coffee and schmoozing program\, Jewish J
 ava\, the first Wednesday of every month from 9-10:30 a.m at Village B
 read Company\, 11101 San Jose Blvd. It’s the perfect place to meet new p
 eople\, catch up with old friends and acquaintances and find out the lates
 t happenings in the Jewish commu...
DTSTART;TZID=America/New_York:20150902T090000
DTEND;TZID=America/New_York:20150902T110000
END:VEVENT
END:VCALENDAR
