BEGIN:VCALENDAR
PRODID:-//eluceo/ical//2.0/EN
VERSION:2.0
CALSCALE:GREGORIAN
BEGIN:VEVENT
UID:2afbddc1e087c596eb71f17c4bc914ac
DTSTAMP:20260419T153953Z
SUMMARY:9AM Federation Jewish Java
DESCRIPTION:Jewish Federation & Foundation of Northeast Florida\nCommunity 
 Calendar\nhttps://jewishjacksonville.org/jewish-federation-of-jacksonville
 -calendar/9am-federation-jewish-javaOctober5\n\nAre you new to the communi
 ty? Been in Jacksonville a few years but looking to make Jewish connection
 s? Do you like to schmooze?  If so the Jewish Federation’s Shalom Jack
 sonville invites you to a monthly coffee and schmoozing program\, Jewish
  Java\, the first Wednesday of every month from 9-10:30 a.m. \n\nIt’
 s the perfect place to meet new people\, catch up with old friends and acq
 uaintances and find out the latest happenings in the Jewish community. Fre
 e coffee or tea with food purc...
DTSTART;TZID=America/New_York:20161005T090000
DTEND;TZID=America/New_York:20161005T103000
END:VEVENT
END:VCALENDAR
