BEGIN:VCALENDAR
PRODID:-//eluceo/ical//2.0/EN
VERSION:2.0
CALSCALE:GREGORIAN
BEGIN:VEVENT
UID:9df14aa3a020e507707ce2f5ee49a951
DTSTAMP:20260424T202217Z
SUMMARY:9AM Federation Jewish Java
DESCRIPTION:Jewish Federation & Foundation of Northeast Florida\nCommunity 
 Calendar\nhttps://jewishjacksonville.org/jewish-federation-of-jacksonville
 -calendar/9am-federation-jewish-javaMay2016\n\nAre you new to the communit
 y? Been in Jacksonville a few years but looking to make Jewish connections
 ? Do you like to schmooze?  If so the Jewish Federation’s Shalom Jackso
 nville invites you to a monthly coffee and schmoozing program\, Jewish Jav
 a\, the first Wednesday of every month from 9-10:30 a.m at Village Bre
 ad Company\, 11101 San Jose Blvd. It’s the perfect place to meet new peo
 ple\, catch up with old friends and acquaintances and find out the latest 
 happenings in the Jewish commu...
DTSTART;TZID=America/New_York:20160504T090000
DTEND;TZID=America/New_York:20160504T103000
END:VEVENT
END:VCALENDAR
