BEGIN:VCALENDAR
PRODID:-//eluceo/ical//2.0/EN
VERSION:2.0
CALSCALE:GREGORIAN
BEGIN:VEVENT
UID:376440a11016013146d9d1ea2d70bdbd
DTSTAMP:20260424T014509Z
SUMMARY:9AM Temple 20's & 30's Second Saturday-Torah Study\, Services\, & l
 unch @ RAM
DESCRIPTION:Jewish Federation & Foundation of Northeast Florida\nCommunity 
 Calendar\nhttps://jewishjacksonville.org/jewish-federation-of-jacksonville
 -calendar/9am\n\nTemple 20's & 30's Second Saturday\n\nTorah Study- 9AM\n\
 nServices- 10:30AM\n\nLunch @ RAM after services conclude around noon
DTSTART;TZID=America/New_York:20160910T090000
DTEND;TZID=America/New_York:20160910T140000
END:VEVENT
END:VCALENDAR
