BEGIN:VCALENDAR
PRODID:-//eluceo/ical//2.0/EN
VERSION:2.0
CALSCALE:GREGORIAN
BEGIN:VEVENT
UID:8d2d927a2694d31a450c90ec729e4e40
DTSTAMP:20260426T015110Z
SUMMARY:9A JJC SHABBAT MEDITATION
DESCRIPTION:Jewish Federation & Foundation of Northeast Florida\nCommunity 
 Calendar\nhttps://jewishjacksonville.org/jewish-federation-of-jacksonville
 -calendar/9a-jjc-shabbat-meditation\n\n9A JJC SHABBAT MEDITATION
DTSTART;TZID=America/New_York:20130112T090000
DTEND;TZID=America/New_York:20130112T100000
END:VEVENT
END:VCALENDAR
