BEGIN:VCALENDAR
PRODID:-//eluceo/ical//2.0/EN
VERSION:2.0
CALSCALE:GREGORIAN
BEGIN:VEVENT
UID:16fa62cf4076273cc06787956a00d539
DTSTAMP:20260425T035616Z
SUMMARY:9A Federation's Shalom Jacksonville Jewish Java - Mandarin
DESCRIPTION:Jewish Federation & Foundation of Northeast Florida\nCommunity 
 Calendar\nhttps://jewishjacksonville.org/jewish-federation-of-jacksonville
 -calendar/9a-federations-shalom-jacksonville-jewish-java---mandarin-8454\n
 \n9A Fed Shalom Jax Jewish Java - Mandarin
DTSTART;TZID=America/New_York:20140108T090000
DTEND;TZID=America/New_York:20140108T103000
END:VEVENT
END:VCALENDAR
