BEGIN:VCALENDAR
PRODID:-//eluceo/ical//2.0/EN
VERSION:2.0
CALSCALE:GREGORIAN
BEGIN:VEVENT
UID:a4a7caa30ffece85f13382fba8f2ebd9
DTSTAMP:20260421T152813Z
SUMMARY:9A Fed YLD Super Sunday
DESCRIPTION:Jewish Federation & Foundation of Northeast Florida\nCommunity 
 Calendar\nhttps://jewishjacksonville.org/jewish-federation-of-jacksonville
 -calendar/9a-fed-yld-super-sunday-8540\n\n9A Fed YLD Super Sunday
DTSTART;TZID=America/New_York:20140202T090000
DTEND;TZID=America/New_York:20140202T130000
END:VEVENT
END:VCALENDAR
