BEGIN:VCALENDAR
PRODID:-//eluceo/ical//2.0/EN
VERSION:2.0
CALSCALE:GREGORIAN
BEGIN:VEVENT
UID:81d1a50992b40945ef7ae0553f6c4d9b
DTSTAMP:20260424T001053Z
SUMMARY:9AM Temple Braille Class
DESCRIPTION:Jewish Federation & Foundation of Northeast Florida\nCommunity 
 Calendar\nhttps://jewishjacksonville.org/jewish-federation-of-jacksonville
 -calendar/9AMTEMPLEBRAILLE\n\nJoin Temple and learn some Braille!
DTSTART;TZID=America/New_York:20150716T090000
DTEND;TZID=America/New_York:20150716T120000
END:VEVENT
END:VCALENDAR
