BEGIN:VCALENDAR
PRODID:-//eluceo/ical//2.0/EN
VERSION:2.0
CALSCALE:GREGORIAN
BEGIN:VEVENT
UID:a6d6e69f177f2649727eaa6aec251158
DTSTAMP:20260425T120802Z
SUMMARY:9:45 a.m. FUNDRAISER Federation Women's Division Champagne Brunch
DESCRIPTION:Jewish Federation & Foundation of Northeast Florida\nCommunity 
 Calendar\nhttps://jewishjacksonville.org/jewish-federation-of-jacksonville
 -calendar/945-am-fundraiser-federation-womens-division-champagne-brunch\n\
 nHeld at MOSH and includes a private tour of\, Anne Frank: A History for 
 Today. Event is co-chaired by Debra Pataky & Ilene Schinasi
DTSTART;TZID=America/New_York:20170122T094500
DTEND;TZID=America/New_York:20170122T130000
END:VEVENT
END:VCALENDAR
