BEGIN:VCALENDAR
PRODID:-//eluceo/ical//2.0/EN
VERSION:2.0
CALSCALE:GREGORIAN
BEGIN:VEVENT
UID:5a458389a71ad77ed11e5f2900d88e73
DTSTAMP:20260425T222526Z
SUMMARY:9:30am JFFNF Women's Philanthropy Steering Committee Meeting
DESCRIPTION:Jewish Federation & Foundation of Northeast Florida\nCommunity 
 Calendar\nhttps://jewishjacksonville.org/jewish-federation-of-jacksonville
 -calendar/930am-jffnf-womens-philanthropy-steering-committee-meeting\n\nJF
 FNF Women's Philanthropy Steering Committee Meeting\n\nlaurenr@jewishjacks
 onville.org
DTSTART;TZID=America/New_York:20231114T093000
DTEND;TZID=America/New_York:20231114T103000
END:VEVENT
END:VCALENDAR
