BEGIN:VCALENDAR
PRODID:-//eluceo/ical//2.0/EN
VERSION:2.0
CALSCALE:GREGORIAN
BEGIN:VEVENT
UID:f7c56956e320ef41686d801cd2162607
DTSTAMP:20260422T181247Z
SUMMARY:9:30 AM JJC Bernard and Alice Selevan Meet and Greet in person
DESCRIPTION:Jewish Federation & Foundation of Northeast Florida\nCommunity 
 Calendar\nhttps://jewishjacksonville.org/jewish-federation-of-jacksonville
 -calendar/930-am-jjc-bernard-and-alice-selevan-meet-and-greet-in-person\n\
 nBernard & Alice Selevan Religious School meet and greet at 9:30\, 11:00 a
 m Shofar blowing 
DTSTART;TZID=America/New_York:20210815T093000
DTEND;TZID=America/New_York:20210815T113000
END:VEVENT
END:VCALENDAR
