BEGIN:VCALENDAR
PRODID:-//eluceo/ical//2.0/EN
VERSION:2.0
CALSCALE:GREGORIAN
BEGIN:VEVENT
UID:6090bd46de50c45fc7cd8c56317cf9bd
DTSTAMP:20260424T075353Z
SUMMARY:9:30 AM - FUNDRAISER Super Sunday
DESCRIPTION:Jewish Federation & Foundation of Northeast Florida\nCommunity 
 Calendar\nhttps://jewishjacksonville.org/jewish-federation-of-jacksonville
 -calendar/930-am-fundraiser-super-sunday\n\nSuper Sunday \n\nDate: Februa
 ry 4th\n\nTime: 9:30 AM
DTSTART;TZID=America/New_York:20180204T093000
DTEND;TZID=America/New_York:20180204T130000
END:VEVENT
END:VCALENDAR
