BEGIN:VCALENDAR
PRODID:-//eluceo/ical//2.0/EN
VERSION:2.0
CALSCALE:GREGORIAN
BEGIN:VEVENT
UID:4b98465ba45ceeee5279bfa579222b1b
DTSTAMP:20260424T133124Z
SUMMARY:9:30 AM Congregation Ahavath Chesed Parent-and-Me Playdate!
DESCRIPTION:Jewish Federation & Foundation of Northeast Florida\nCommunity 
 Calendar\nhttps://jewishjacksonville.org/jewish-federation-of-jacksonville
 -calendar/930-am-congregation-ahavath-chesed-parent-and-me-playdate3\n\nPa
 rent-and-Me Playdate!\n\nFree and open to the community.  Activities are 
 geared to ages 0-4 and their caregivers (older siblings welcome).  \n\nS
 unday at the Temple featuring crafts\, storytimes\, and music-and-movement
  classes\n\n9:00 AM Free Breakfast\n\n9:30 AM Parent-and-Me Program
DTSTART;TZID=America/New_York:20220227T093000
DTEND;TZID=America/New_York:20220227T110000
END:VEVENT
END:VCALENDAR
